BEGIN:VCALENDAR
VERSION:2.0
PRODID:-//jEvents 2.0 for Joomla//EN
CALSCALE:GREGORIAN
METHOD:PUBLISH
BEGIN:VTIMEZONE
TZID:Europe/Amsterdam
BEGIN:STANDARD
DTSTART:20171029T020000
RDATE:20180325T030000
TZOFFSETFROM:+0200
TZOFFSETTO:+0100
TZNAME:Europe/Amsterdam CET
END:STANDARD
BEGIN:STANDARD
DTSTART:20181028T020000
RDATE:20190331T030000
TZOFFSETFROM:+0200
TZOFFSETTO:+0100
TZNAME:Europe/Amsterdam CET
END:STANDARD
BEGIN:STANDARD
DTSTART:20191027T020000
RDATE:20200329T030000
TZOFFSETFROM:+0200
TZOFFSETTO:+0100
TZNAME:Europe/Amsterdam CET
END:STANDARD
BEGIN:STANDARD
DTSTART:20201025T020000
RDATE:20210328T030000
TZOFFSETFROM:+0200
TZOFFSETTO:+0100
TZNAME:Europe/Amsterdam CET
END:STANDARD
BEGIN:STANDARD
DTSTART:20211031T020000
RDATE:20220327T030000
TZOFFSETFROM:+0200
TZOFFSETTO:+0100
TZNAME:Europe/Amsterdam CET
END:STANDARD
BEGIN:STANDARD
DTSTART:20221030T020000
RDATE:20230326T030000
TZOFFSETFROM:+0200
TZOFFSETTO:+0100
TZNAME:Europe/Amsterdam CET
END:STANDARD
BEGIN:STANDARD
DTSTART:20231029T020000
RDATE:20240331T030000
TZOFFSETFROM:+0200
TZOFFSETTO:+0100
TZNAME:Europe/Amsterdam CET
END:STANDARD
BEGIN:STANDARD
DTSTART:20241027T020000
RDATE:20250330T030000
TZOFFSETFROM:+0200
TZOFFSETTO:+0100
TZNAME:Europe/Amsterdam CET
END:STANDARD
BEGIN:STANDARD
DTSTART:20251026T020000
RDATE:20260329T030000
TZOFFSETFROM:+0200
TZOFFSETTO:+0100
TZNAME:Europe/Amsterdam CET
END:STANDARD
BEGIN:STANDARD
DTSTART:20261025T020000
RDATE:20270328T030000
TZOFFSETFROM:+0200
TZOFFSETTO:+0100
TZNAME:Europe/Amsterdam CET
END:STANDARD
BEGIN:STANDARD
DTSTART:20271031T020000
RDATE:20280326T030000
TZOFFSETFROM:+0200
TZOFFSETTO:+0100
TZNAME:Europe/Amsterdam CET
END:STANDARD
BEGIN:STANDARD
DTSTART:20281029T020000
RDATE:20290325T030000
TZOFFSETFROM:+0200
TZOFFSETTO:+0100
TZNAME:Europe/Amsterdam CET
END:STANDARD
BEGIN:DAYLIGHT
DTSTART:20170921T094500
RDATE:20171029T020000
TZOFFSETFROM:+0100
TZOFFSETTO:+0200
TZNAME:Europe/Amsterdam CEST
END:DAYLIGHT
BEGIN:DAYLIGHT
DTSTART:20180325T030000
RDATE:20181028T020000
TZOFFSETFROM:+0100
TZOFFSETTO:+0200
TZNAME:Europe/Amsterdam CEST
END:DAYLIGHT
BEGIN:DAYLIGHT
DTSTART:20190331T030000
RDATE:20191027T020000
TZOFFSETFROM:+0100
TZOFFSETTO:+0200
TZNAME:Europe/Amsterdam CEST
END:DAYLIGHT
BEGIN:DAYLIGHT
DTSTART:20200329T030000
RDATE:20201025T020000
TZOFFSETFROM:+0100
TZOFFSETTO:+0200
TZNAME:Europe/Amsterdam CEST
END:DAYLIGHT
BEGIN:DAYLIGHT
DTSTART:20210328T030000
RDATE:20211031T020000
TZOFFSETFROM:+0100
TZOFFSETTO:+0200
TZNAME:Europe/Amsterdam CEST
END:DAYLIGHT
BEGIN:DAYLIGHT
DTSTART:20220327T030000
RDATE:20221030T020000
TZOFFSETFROM:+0100
TZOFFSETTO:+0200
TZNAME:Europe/Amsterdam CEST
END:DAYLIGHT
BEGIN:DAYLIGHT
DTSTART:20230326T030000
RDATE:20231029T020000
TZOFFSETFROM:+0100
TZOFFSETTO:+0200
TZNAME:Europe/Amsterdam CEST
END:DAYLIGHT
BEGIN:DAYLIGHT
DTSTART:20240331T030000
RDATE:20241027T020000
TZOFFSETFROM:+0100
TZOFFSETTO:+0200
TZNAME:Europe/Amsterdam CEST
END:DAYLIGHT
BEGIN:DAYLIGHT
DTSTART:20250330T030000
RDATE:20251026T020000
TZOFFSETFROM:+0100
TZOFFSETTO:+0200
TZNAME:Europe/Amsterdam CEST
END:DAYLIGHT
BEGIN:DAYLIGHT
DTSTART:20260329T030000
RDATE:20261025T020000
TZOFFSETFROM:+0100
TZOFFSETTO:+0200
TZNAME:Europe/Amsterdam CEST
END:DAYLIGHT
BEGIN:DAYLIGHT
DTSTART:20270328T030000
RDATE:20271031T020000
TZOFFSETFROM:+0100
TZOFFSETTO:+0200
TZNAME:Europe/Amsterdam CEST
END:DAYLIGHT
BEGIN:DAYLIGHT
DTSTART:20280326T030000
RDATE:20281029T020000
TZOFFSETFROM:+0100
TZOFFSETTO:+0200
TZNAME:Europe/Amsterdam CEST
END:DAYLIGHT
END:VTIMEZONE
BEGIN:VEVENT
UID:ffc63a8f52d5718de1c70cd3187cb93d
CATEGORIES:Opleidingen
CREATED:20180606T110934
SUMMARY:3e TBN Hanmadang Scheidsrechteropleiding
LOCATION:Nieuwegein
URL;VALUE=URI:https://www.taekwondocentrumalkmaar.nl/agenda/28/3e-tbn-hanmadang-scheidsre
 chteropleiding?tmpl=component
DESCRIPTION:Deze opleiding staat open voor alle kandidaten die Hanmadang scheidsrechter
  willen worden (minimumvereisten: vanaf 4e kup en minimum leeftijd 15 jaar)
  maar is tevens voor de huidige Hanmadang scheidsrechters een refresh cursu
 s.Tijdens deze cursus zullen	de kandidaat scheidsrechters alle regels van H
 anmadang tot in detail uitgelegd krijgen d.m.v. een powerpoint presentatie 
 quoteringsdocumenten en filmpjes.\nDe bedoeling is dat er volgend jaar een 
 Hanmadang pilot zal worden georganiseerd. De datum hiervan zal te zijner ti
 jd via de TBN website bekend worden gemaakt.\nWat is Hanmadang?Hanmadang be
 staat reeds geruime tijd in Korea, maar is pas de laatste jaren aan een opm
 ars bezig in de andere landen. Letterlijk betekent Hanmadang ‘festival’, wa
 armee wordt bedoelt dat zowel de deelnemers als kijkers van het gebeuren ee
 n feest willen	maken. Hanmadang legt de nadruk op de krijgskunst, met al zi
 jn waarden zoals respect, integriteit, en discipline.\nBij Hanmadang is het
  belangrijkste niet echt winnen, maar vooral deelnemen en genieten. Alle mo
 gelijke facetten uit het taekwondo behalve sparren komen aan bod. Naast poo
 msae vinden er ook kracht- en technische breektesten, zelfverdediging, taek
 wondo	aerobics, hoogte- en vertesprong en team competitie plaats. Bij dit l
 aatste dient een bepaalde selectie van disciplines door een team te worden 
 getoond.\nSoorten diploma’sBinnen de TBN Hanmadang scheidsrechters wordt ee
 n onderscheid gemaakt tussen 2 soorten diploma’s:\n	\n - Het TBN A-diploma\
 n Een scheidsrechter met een A-diploma mag alle disciplines jureren, inclus
 ief de poomsae disciplines. Deze scheidsrechter moet ook beschikken over ee
 n nationaal of internationaal poomsae scheidsrechter diploma.	\n - Het TBN 
 B-diploma\n Een scheidsrechter met een B-diploma mag alle disciplines jurer
 en, behalve de poomsae disciplines.Praktische infoDeelnamevoorwaarden: Leef
 tijd vanaf 15 jaar en graduatie vanaf 4de kup (blauwe band)\nMeenemen: 1 pa
 sfoto, schrijfgerei en TBN paspoort.\nProgramma:\n09.45 – 10.00 uur: Aankom
 st, tekenen aanwezigheidslijst\n 10.00 – 13.00 uur: Theorie (reglement) en 
 bekijken wedstrijdopnamen\nInschrijfgeld:\n Over maken op bankrekening NL70
  INGB 0004 8574 90 ten name van Taekwondo Bond Nederland, met vermelding “H
 anmadang opleiding 16 september 2017”, naam kandidaat en bondslidnummer.\n	
 \n - Opleiding Hanmadang scheidsrechter A- en B- diploma: € 25.	\n - Bijsch
 oling voor TBN / VTB- en/of Kukkiwon Hanmadang diploma houders: € 10.	Aanme
 lden kan tot maandag 10 september 2018 door te mailen naar:\n chaima-world@
 hotmail.com met vermelding van uw naam, geboortedatum, graduatie en bondsli
 dnummer. Geef tevens aan of u op wilt gaan voor het A of B –diploma of voor
  de bijscholing.\nDe cursussen zijn toegankelijk voor TBN-leden die voldoen
  aan de deelnamevoorwaarden. Er is echter een beperkte capaciteit. Definiti
 eve deelname gebeurt op volgorde van de inschrijvingen.\nHet inschrijvingsg
 eld dient tegelijkertijd met de inschrijving te worden voldaan, anders word
 t deze niet in behandeling genomen.\nWij verzoeken u om deze Hanmadang sche
 idsrechtersopleiding onder de aandacht van belangstellenden binnen uw club 
 te brengen!\nDocent: Dhr. Chris Thoen, 7e dan Kukkiwon en Hanmadang scheids
 rechter. Tevens hoog gekwalificeerd in de Hanmadang.\nVoor meer informatie 
 omtrent de opleiding kunt u contact opnemen met:\n Chaïma Moutarazak\n Hanm
 adang scheidsrechter coördinator\n o.l.v. Supervisor TBN Nationaal Stijljur
 y Comité\n M: (privé) 0618384500\n E: Chaima-world@hotmail.com\n W: www.tae
 kwondobond.nl (http://www.taekwondobond.nl)\n
X-ALT-DESC;FMTTYPE=text/html:<p>Deze opleiding staat open voor alle kandidaten die Hanmadang scheidsrech
 ter willen worden (minimumvereisten: vanaf 4e kup en minimum leeftijd 15 ja
 ar) maar is tevens voor de huidige Hanmadang scheidsrechters een refresh cu
 rsus.Tijdens deze cursus zullen	de kandidaat scheidsrechters alle regels va
 n Hanmadang tot in detail uitgelegd krijgen d.m.v. een powerpoint presentat
 ie quoteringsdocumenten en filmpjes.</p><p>De bedoeling is dat er volgend j
 aar een Hanmadang pilot zal worden georganiseerd. De datum hiervan zal te z
 ijner tijd via de TBN website bekend worden gemaakt.</p><h2>Wat is Hanmadan
 g?</h2><p>Hanmadang bestaat reeds geruime tijd in Korea, maar is pas de laa
 tste jaren aan een opmars bezig in de andere landen. Letterlijk betekent Ha
 nmadang ‘festival’, waarmee wordt bedoelt dat zowel de deelnemers als kijke
 rs van het gebeuren een feest willen	maken. Hanmadang legt de nadruk op de 
 krijgskunst, met al zijn waarden zoals respect, integriteit, en discipline.
 </p><p>Bij Hanmadang is het belangrijkste niet echt winnen, maar vooral dee
 lnemen en genieten. Alle mogelijke facetten uit het taekwondo behalve sparr
 en komen aan bod. Naast poomsae vinden er ook kracht- en technische breekte
 sten, zelfverdediging, taekwondo	aerobics, hoogte- en vertesprong en team c
 ompetitie plaats. Bij dit laatste dient een bepaalde selectie van disciplin
 es door een team te worden getoond.</p><h2>Soorten diploma’s</h2><p>Binnen 
 de TBN Hanmadang scheidsrechters wordt een onderscheid gemaakt tussen 2 soo
 rten diploma’s:</p><ol>	<li><strong>Het TBN A-diploma</strong><br /> Een sc
 heidsrechter met een A-diploma mag alle disciplines jureren, inclusief de p
 oomsae disciplines. Deze scheidsrechter moet ook beschikken over een nation
 aal of internationaal poomsae scheidsrechter diploma.</li>	<li><strong>Het 
 TBN B-diploma</strong><br /> Een scheidsrechter met een B-diploma mag alle 
 disciplines jureren, behalve de poomsae disciplines.</li></ol><h2>Praktisch
 e info</h2><p><strong>Deelnamevoorwaarden:</strong> Leeftijd vanaf 15 jaar 
 en graduatie vanaf 4de kup (blauwe band)</p><p><strong>Meenemen:</strong> 1
  pasfoto, schrijfgerei en TBN paspoort.</p><p><strong>Programma:</strong><b
 r />09.45 – 10.00 uur: Aankomst, tekenen aanwezigheidslijst<br /> 10.00 – 1
 3.00 uur: Theorie (reglement) en bekijken wedstrijdopnamen</p><p><strong>In
 schrijfgeld:</strong><br /> Over maken op bankrekening NL70 INGB 0004 8574 
 90 ten name van Taekwondo Bond Nederland, met vermelding “Hanmadang opleidi
 ng 16 september 2017”, naam kandidaat en bondslidnummer.</p><ol>	<li>Opleid
 ing Hanmadang scheidsrechter A- en B- diploma: € 25.</li>	<li>Bijscholing v
 oor TBN / VTB- en/of Kukkiwon Hanmadang diploma houders: € 10.</li></ol><p>
 	Aanmelden kan tot maandag 10 september 2018 door te mailen naar:<br /> cha
 ima-world@hotmail.com met vermelding van uw naam, geboortedatum, graduatie 
 en bondslidnummer. Geef tevens aan of u op wilt gaan voor het A of B –diplo
 ma of voor de bijscholing.</p><p>De cursussen zijn toegankelijk voor TBN-le
 den die voldoen aan de deelnamevoorwaarden. Er is echter een beperkte capac
 iteit. Definitieve deelname gebeurt op volgorde van de inschrijvingen.</p><
 p>Het inschrijvingsgeld dient tegelijkertijd met de inschrijving te worden 
 voldaan, anders wordt deze niet in behandeling genomen.</p><blockquote><p>W
 ij verzoeken u om deze Hanmadang scheidsrechtersopleiding onder de aandacht
  van belangstellenden binnen uw club te brengen!</p></blockquote><p><strong
 >Docent:</strong> Dhr. Chris Thoen, 7e dan Kukkiwon en Hanmadang scheidsrec
 hter. Tevens hoog gekwalificeerd in de Hanmadang.</p><p>Voor meer informati
 e omtrent de opleiding kunt u contact opnemen met:<br /> <strong>Chaïma Mou
 tarazak</strong><br /> Hanmadang scheidsrechter coördinator<br /> o.l.v. Su
 pervisor TBN Nationaal Stijljury Comité<br /> M: (privé) 0618384500<br /> E
 : Chaima-world@hotmail.com<br /> W: <a href="http://www.taekwondobond.nl" t
 arget="_blank" rel="external">www.taekwondobond.nl</a></p>
CONTACT:chaima-world@hotmail.com
X-EXTRAINFO:Sport- en Evenementencomplex\nMerweplein 1\n3432 GN  Nieuwegein
DTSTAMP:20260424T220527Z
DTSTART;TZID=Europe/Amsterdam:20180922T094500
DTEND;TZID=Europe/Amsterdam:20180922T130000
SEQUENCE:0
TRANSP:OPAQUE
END:VEVENT
END:VCALENDAR