BEGIN:VCALENDAR
VERSION:2.0
PRODID:-//jEvents 2.0 for Joomla//EN
CALSCALE:GREGORIAN
METHOD:PUBLISH
BEGIN:VTIMEZONE
TZID:Europe/Amsterdam
BEGIN:STANDARD
DTSTART:20171029T020000
RDATE:20180325T030000
TZOFFSETFROM:+0200
TZOFFSETTO:+0100
TZNAME:Europe/Amsterdam CET
END:STANDARD
BEGIN:STANDARD
DTSTART:20181028T020000
RDATE:20190331T030000
TZOFFSETFROM:+0200
TZOFFSETTO:+0100
TZNAME:Europe/Amsterdam CET
END:STANDARD
BEGIN:STANDARD
DTSTART:20191027T020000
RDATE:20200329T030000
TZOFFSETFROM:+0200
TZOFFSETTO:+0100
TZNAME:Europe/Amsterdam CET
END:STANDARD
BEGIN:STANDARD
DTSTART:20201025T020000
RDATE:20210328T030000
TZOFFSETFROM:+0200
TZOFFSETTO:+0100
TZNAME:Europe/Amsterdam CET
END:STANDARD
BEGIN:STANDARD
DTSTART:20211031T020000
RDATE:20220327T030000
TZOFFSETFROM:+0200
TZOFFSETTO:+0100
TZNAME:Europe/Amsterdam CET
END:STANDARD
BEGIN:STANDARD
DTSTART:20221030T020000
RDATE:20230326T030000
TZOFFSETFROM:+0200
TZOFFSETTO:+0100
TZNAME:Europe/Amsterdam CET
END:STANDARD
BEGIN:STANDARD
DTSTART:20231029T020000
RDATE:20240331T030000
TZOFFSETFROM:+0200
TZOFFSETTO:+0100
TZNAME:Europe/Amsterdam CET
END:STANDARD
BEGIN:STANDARD
DTSTART:20241027T020000
RDATE:20250330T030000
TZOFFSETFROM:+0200
TZOFFSETTO:+0100
TZNAME:Europe/Amsterdam CET
END:STANDARD
BEGIN:STANDARD
DTSTART:20251026T020000
RDATE:20260329T030000
TZOFFSETFROM:+0200
TZOFFSETTO:+0100
TZNAME:Europe/Amsterdam CET
END:STANDARD
BEGIN:STANDARD
DTSTART:20261025T020000
RDATE:20270328T030000
TZOFFSETFROM:+0200
TZOFFSETTO:+0100
TZNAME:Europe/Amsterdam CET
END:STANDARD
BEGIN:STANDARD
DTSTART:20271031T020000
RDATE:20280326T030000
TZOFFSETFROM:+0200
TZOFFSETTO:+0100
TZNAME:Europe/Amsterdam CET
END:STANDARD
BEGIN:STANDARD
DTSTART:20281029T020000
RDATE:20290325T030000
TZOFFSETFROM:+0200
TZOFFSETTO:+0100
TZNAME:Europe/Amsterdam CET
END:STANDARD
BEGIN:DAYLIGHT
DTSTART:20171019T080000
RDATE:20171029T020000
TZOFFSETFROM:+0100
TZOFFSETTO:+0200
TZNAME:Europe/Amsterdam CEST
END:DAYLIGHT
BEGIN:DAYLIGHT
DTSTART:20180325T030000
RDATE:20181028T020000
TZOFFSETFROM:+0100
TZOFFSETTO:+0200
TZNAME:Europe/Amsterdam CEST
END:DAYLIGHT
BEGIN:DAYLIGHT
DTSTART:20190331T030000
RDATE:20191027T020000
TZOFFSETFROM:+0100
TZOFFSETTO:+0200
TZNAME:Europe/Amsterdam CEST
END:DAYLIGHT
BEGIN:DAYLIGHT
DTSTART:20200329T030000
RDATE:20201025T020000
TZOFFSETFROM:+0100
TZOFFSETTO:+0200
TZNAME:Europe/Amsterdam CEST
END:DAYLIGHT
BEGIN:DAYLIGHT
DTSTART:20210328T030000
RDATE:20211031T020000
TZOFFSETFROM:+0100
TZOFFSETTO:+0200
TZNAME:Europe/Amsterdam CEST
END:DAYLIGHT
BEGIN:DAYLIGHT
DTSTART:20220327T030000
RDATE:20221030T020000
TZOFFSETFROM:+0100
TZOFFSETTO:+0200
TZNAME:Europe/Amsterdam CEST
END:DAYLIGHT
BEGIN:DAYLIGHT
DTSTART:20230326T030000
RDATE:20231029T020000
TZOFFSETFROM:+0100
TZOFFSETTO:+0200
TZNAME:Europe/Amsterdam CEST
END:DAYLIGHT
BEGIN:DAYLIGHT
DTSTART:20240331T030000
RDATE:20241027T020000
TZOFFSETFROM:+0100
TZOFFSETTO:+0200
TZNAME:Europe/Amsterdam CEST
END:DAYLIGHT
BEGIN:DAYLIGHT
DTSTART:20250330T030000
RDATE:20251026T020000
TZOFFSETFROM:+0100
TZOFFSETTO:+0200
TZNAME:Europe/Amsterdam CEST
END:DAYLIGHT
BEGIN:DAYLIGHT
DTSTART:20260329T030000
RDATE:20261025T020000
TZOFFSETFROM:+0100
TZOFFSETTO:+0200
TZNAME:Europe/Amsterdam CEST
END:DAYLIGHT
BEGIN:DAYLIGHT
DTSTART:20270328T030000
RDATE:20271031T020000
TZOFFSETFROM:+0100
TZOFFSETTO:+0200
TZNAME:Europe/Amsterdam CEST
END:DAYLIGHT
BEGIN:DAYLIGHT
DTSTART:20280326T030000
RDATE:20281029T020000
TZOFFSETFROM:+0100
TZOFFSETTO:+0200
TZNAME:Europe/Amsterdam CEST
END:DAYLIGHT
END:VTIMEZONE
BEGIN:VEVENT
UID:eeb57d0a6dacf928619c739daad09098
CATEGORIES:Wedstrijden
CREATED:20180606T113214
SUMMARY:2e Open Hanmadang Nederland
LOCATION:Waalwijk
URL;VALUE=URI:https://www.taekwondocentrumalkmaar.nl/agenda/30/2e-open-hanmadang-nederlan
 d?tmpl=component
DESCRIPTION:Organisatie Taekwondo vereniging Garuda Waalwijk, onder auspiciën van de Ta
 ekwondo Bond Nederland.\nAlgemeen Dit is de tweede Hanmadang die wordt geor
 ganiseerd in Nederland.\n		We hanteren zoveel mogelijk de officiële Hanmada
 ng reglementen.\n		Alle deelnemers worden geacht op eigen risico aan de Han
 madang deel te nemen. Door deelname verklaren zij zich akkoord de organisat
 ie te vrijwaren van elke aansprakelijkheid en of schade.\nDeelname Alleen v
 oor TBN-leden en leden van bij de World Taekwondo aangesloten nationale bon
 den.\nBesluit Er geldt een minimum van 4 deelnemers per discipline (individ
 ueel, paren, teams). Indien dit niet het geval is worden deelnemers samenge
 voegd of wordt het onderdeel geannuleerd.\nDoorgang!!! Bij onvoldoende deel
 nemers wordt de Hanmadang geannuleerd.\n	Alle reeds betaalde gelden worden 
 in zijn geheel teruggestort.	Per 01-08-2018 ontvangt u hierover bericht, in
 dien van toepassing.\nPresentie Deelnemen aan diverse onderdelen is toegest
 aan, maar men is zelf verantwoordelijk om op tijd aanwezig te zijn, om zo o
 ponthoud in de wedstrijden tegen te gaan. Door overlapping van onderdelen l
 oopt men		het risico om verstek te moeten laten gaan. Hiervoor bent u zelf 
 verantwoordelijk. Coaches hebben hierin een belangrijke rol.\nBreekmateriaa
 l U dient zelf uw eigen breekmateriaal mee te nemen, op te ruimen en ook me
 e terug te nemen. Vierkante vurenhouten breekplanken dienen minimaal 0,8 cm
  dik te zijn, met afmetingen 20x20 cm of 30x30 cm.\n	Dakpannen en gasbeton 
 zijn ook toegestaan. Aangeven op de inschrijving, zodat de organisatie hier
  rekening mee kan houden.\nPara sporters Alleen voor het onderdeel Taegeuk 
 / Poomsee individueel kunt u zich inschrijven. U wordt van harte uitgenodig
 d om deel te nemen!\nProgramma o.v.b.\n	08.00-08.30u. Melden\n	09.30-09.45u
 . Opening / welkomstwoord / groepsfoto\n	09.45-12.15u Start wedstrijden\n	1
 2.15-13.00u Pauze\n	13.00-16.30u Vervolg wedstrijden 16.45u Afsluiting\n	In
 lichtingen Ernst Breuer, voorzitter / hoofdtrainer / organisator\n	Taekwond
 o vereniging Garuda Waalwijk\n	Via e-mail: HanmadangWaalwijk@gmail.com o.v.
 v. 2e Hanmadang\nVolledige uitschrijving (https://www.taekwondobond.nl/wp-c
 ontent/uploads/2018/04/2e-Open-Hanmadang-Nederland-20-10-2018-uitschrijving
 -.pdf)\n
X-ALT-DESC;FMTTYPE=text/html:<p><strong>Organisatie</strong> Taekwondo vereniging Garuda Waalwijk, onder
  auspiciën van de Taekwondo Bond Nederland.</p><p><strong>Algemeen</strong>
  Dit is de tweede Hanmadang die wordt georganiseerd in Nederland.<br />		We
  hanteren zoveel mogelijk de officiële Hanmadang reglementen.<br />		Alle d
 eelnemers worden geacht op eigen risico aan de Hanmadang deel te nemen. Doo
 r deelname verklaren zij zich akkoord de organisatie te vrijwaren van elke 
 aansprakelijkheid en of schade.</p><p><strong>Deelname</strong> Alleen voor
  TBN-leden en leden van bij de World Taekwondo aangesloten nationale bonden
 .</p><p><strong>Besluit</strong> Er geldt een minimum van 4 deelnemers per 
 discipline (individueel, paren, teams). Indien dit niet het geval is worden
  deelnemers samengevoegd of wordt het onderdeel geannuleerd.</p><p><strong>
 <u>Doorgang!!!</u></strong> Bij onvoldoende deelnemers wordt de Hanmadang g
 eannuleerd.<br />	Alle reeds betaalde gelden worden in zijn geheel terugges
 tort.	Per <strong>01-08-2018</strong> ontvangt u hierover bericht, indien v
 an toepassing.</p><p><strong>Presentie</strong> Deelnemen aan diverse onder
 delen is toegestaan, maar men is zelf verantwoordelijk om op tijd aanwezig 
 te zijn, om zo oponthoud in de wedstrijden tegen te gaan. Door overlapping 
 van onderdelen loopt men		het risico om verstek te moeten laten gaan. Hierv
 oor bent u zelf verantwoordelijk. Coaches hebben hierin een belangrijke rol
 .</p><p><strong>Breekmateriaal</strong> U dient zelf uw eigen breekmateriaa
 l mee te nemen, op te ruimen en ook mee terug te nemen. Vierkante vurenhout
 en breekplanken dienen minimaal 0,8 cm dik te zijn, met afmetingen 20x20 cm
  of 30x30 cm.<br />	Dakpannen en gasbeton zijn ook toegestaan. Aangeven op 
 de inschrijving, zodat de organisatie hier rekening mee kan houden.</p><p><
 strong>Para sporters</strong> Alleen voor het onderdeel Taegeuk / Poomsee i
 ndividueel kunt u zich inschrijven. U wordt van harte uitgenodigd om deel t
 e nemen!</p><p><strong>Programma o.v.b.</strong><br />	08.00-08.30u. Melden
 <br />	09.30-09.45u. Opening / welkomstwoord / groepsfoto<br />	09.45-12.15
 u Start wedstrijden<br />	12.15-13.00u Pauze<br />	13.00-16.30u Vervolg wed
 strijden 16.45u Afsluiting</p>	<p><strong>Inlichtingen</strong> Ernst Breue
 r, voorzitter / hoofdtrainer / organisator<br />	Taekwondo vereniging Garud
 a Waalwijk<br />	Via e-mail: HanmadangWaalwijk@gmail.com o.v.v. 2e Hanmadan
 g</p><p><a href="https://www.taekwondobond.nl/wp-content/uploads/2018/04/2e
 -Open-Hanmadang-Nederland-20-10-2018-uitschrijving-.pdf" rel="external">Vol
 ledige uitschrijving</a></p>
X-EXTRAINFO:Sporthal De Slagen\nDe Gaard 2\nWaalwijk
DTSTAMP:20260425T005406Z
DTSTART;TZID=Europe/Amsterdam:20181020T080000
DTEND;TZID=Europe/Amsterdam:20181020T170000
SEQUENCE:0
TRANSP:OPAQUE
END:VEVENT
END:VCALENDAR