BEGIN:VCALENDAR
VERSION:2.0
PRODID:-//jEvents 2.0 for Joomla//EN
CALSCALE:GREGORIAN
METHOD:PUBLISH
BEGIN:VTIMEZONE
TZID:Europe/Amsterdam
BEGIN:STANDARD
DTSTART:20181028T020000
RDATE:20190331T030000
TZOFFSETFROM:+0200
TZOFFSETTO:+0100
TZNAME:Europe/Amsterdam CET
END:STANDARD
BEGIN:STANDARD
DTSTART:20191027T020000
RDATE:20200329T030000
TZOFFSETFROM:+0200
TZOFFSETTO:+0100
TZNAME:Europe/Amsterdam CET
END:STANDARD
BEGIN:STANDARD
DTSTART:20201025T020000
RDATE:20210328T030000
TZOFFSETFROM:+0200
TZOFFSETTO:+0100
TZNAME:Europe/Amsterdam CET
END:STANDARD
BEGIN:STANDARD
DTSTART:20211031T020000
RDATE:20220327T030000
TZOFFSETFROM:+0200
TZOFFSETTO:+0100
TZNAME:Europe/Amsterdam CET
END:STANDARD
BEGIN:STANDARD
DTSTART:20221030T020000
RDATE:20230326T030000
TZOFFSETFROM:+0200
TZOFFSETTO:+0100
TZNAME:Europe/Amsterdam CET
END:STANDARD
BEGIN:STANDARD
DTSTART:20231029T020000
RDATE:20240331T030000
TZOFFSETFROM:+0200
TZOFFSETTO:+0100
TZNAME:Europe/Amsterdam CET
END:STANDARD
BEGIN:STANDARD
DTSTART:20241027T020000
RDATE:20250330T030000
TZOFFSETFROM:+0200
TZOFFSETTO:+0100
TZNAME:Europe/Amsterdam CET
END:STANDARD
BEGIN:STANDARD
DTSTART:20251026T020000
RDATE:20260329T030000
TZOFFSETFROM:+0200
TZOFFSETTO:+0100
TZNAME:Europe/Amsterdam CET
END:STANDARD
BEGIN:STANDARD
DTSTART:20261025T020000
RDATE:20270328T030000
TZOFFSETFROM:+0200
TZOFFSETTO:+0100
TZNAME:Europe/Amsterdam CET
END:STANDARD
BEGIN:STANDARD
DTSTART:20271031T020000
RDATE:20280326T030000
TZOFFSETFROM:+0200
TZOFFSETTO:+0100
TZNAME:Europe/Amsterdam CET
END:STANDARD
BEGIN:STANDARD
DTSTART:20281029T020000
RDATE:20290325T030000
TZOFFSETFROM:+0200
TZOFFSETTO:+0100
TZNAME:Europe/Amsterdam CET
END:STANDARD
BEGIN:DAYLIGHT
DTSTART:20180406T080000
RDATE:20181028T020000
TZOFFSETFROM:+0100
TZOFFSETTO:+0200
TZNAME:Europe/Amsterdam CEST
END:DAYLIGHT
BEGIN:DAYLIGHT
DTSTART:20190331T030000
RDATE:20191027T020000
TZOFFSETFROM:+0100
TZOFFSETTO:+0200
TZNAME:Europe/Amsterdam CEST
END:DAYLIGHT
BEGIN:DAYLIGHT
DTSTART:20200329T030000
RDATE:20201025T020000
TZOFFSETFROM:+0100
TZOFFSETTO:+0200
TZNAME:Europe/Amsterdam CEST
END:DAYLIGHT
BEGIN:DAYLIGHT
DTSTART:20210328T030000
RDATE:20211031T020000
TZOFFSETFROM:+0100
TZOFFSETTO:+0200
TZNAME:Europe/Amsterdam CEST
END:DAYLIGHT
BEGIN:DAYLIGHT
DTSTART:20220327T030000
RDATE:20221030T020000
TZOFFSETFROM:+0100
TZOFFSETTO:+0200
TZNAME:Europe/Amsterdam CEST
END:DAYLIGHT
BEGIN:DAYLIGHT
DTSTART:20230326T030000
RDATE:20231029T020000
TZOFFSETFROM:+0100
TZOFFSETTO:+0200
TZNAME:Europe/Amsterdam CEST
END:DAYLIGHT
BEGIN:DAYLIGHT
DTSTART:20240331T030000
RDATE:20241027T020000
TZOFFSETFROM:+0100
TZOFFSETTO:+0200
TZNAME:Europe/Amsterdam CEST
END:DAYLIGHT
BEGIN:DAYLIGHT
DTSTART:20250330T030000
RDATE:20251026T020000
TZOFFSETFROM:+0100
TZOFFSETTO:+0200
TZNAME:Europe/Amsterdam CEST
END:DAYLIGHT
BEGIN:DAYLIGHT
DTSTART:20260329T030000
RDATE:20261025T020000
TZOFFSETFROM:+0100
TZOFFSETTO:+0200
TZNAME:Europe/Amsterdam CEST
END:DAYLIGHT
BEGIN:DAYLIGHT
DTSTART:20270328T030000
RDATE:20271031T020000
TZOFFSETFROM:+0100
TZOFFSETTO:+0200
TZNAME:Europe/Amsterdam CEST
END:DAYLIGHT
BEGIN:DAYLIGHT
DTSTART:20280326T030000
RDATE:20281029T020000
TZOFFSETFROM:+0100
TZOFFSETTO:+0200
TZNAME:Europe/Amsterdam CEST
END:DAYLIGHT
END:VTIMEZONE
BEGIN:VEVENT
UID:aa87ef1c4a2b1f073af9d8603df0e493
CATEGORIES:Wedstrijden
CREATED:20180606T120435
SUMMARY:Open Districtskampioenschap Stijl en Breektesten Noord-Oost
LOCATION:Nijverdal
URL;VALUE=URI:https://www.taekwondocentrumalkmaar.nl/agenda/38/open-districtskampioenscha
 p-stijl-en-breektesten-noord-oost?tmpl=component
DESCRIPTION:Poomsae	In de individuele (1) competitie zullen mannen en vrouwen apart dee
 lnemen.\n	Een paar dient twee (2) deelnemers te hebben, een man en een vrou
 w.\n	Een team dient drie (3) deelnemers van hetzelfde geslacht te hebben.\n
 	Deelnemer mag zowel in de individuele klasse als in paar en team klasse st
 arten.\n	\n - A-categorie 1e Dan/Poom en hoger	\n - A-Open categorie 1e Dan
  en hoger	\n - B-categorie 4e t/m 1e Geup	\n - C-categorie 8e t/m 5e Geup	D
 e A-Open categorie is een categorie waarbij de deelnemers vrije keuze hebbe
 n in de te lopen poomsae, deze dient bij	aanmelding doorgegeven te worden. 
 De A-Open categorie alleen divisies vanaf 18 jaar.\nDe leeftijdsgrenzen zij
 n gebaseerd op het geboortejaar. Bv. als iemand 17 jaar is maar in het comp
 etitiejaar 18 jaar	wordt, neemt hij/zij deel bij divisie 18t/m 30 jr.\nDe o
 rganisatie behoud zich het recht voor om poules samen te voegen.\nGye-paKla
 sse verplicht	In totaal moeten er 3 planken gebroken worden.\n	Verplicht is
  1 vuist of handtechniek. De overige Taekwondo technieken zijn vrij maar mo
 eten wel verschillend zijn.\nKlasse vrij (alleen vanaf 18 jaar)In totaal mo
 eten er 5 planken gebroken worden.\n	Alle Taekwondo technieken zijn vrij ma
 ar moeten wel verschillend zijn.\n	\n - A-categorie 1e Geup en hoger
X-ALT-DESC;FMTTYPE=text/html:<h2>Poomsae</h2><p>	In de individuele (1) competitie zullen mannen en vrouw
 en apart deelnemen.<br />	Een paar dient twee (2) deelnemers te hebben, een
  man en een vrouw.<br />	Een team dient drie (3) deelnemers van hetzelfde g
 eslacht te hebben.<br />	Deelnemer mag zowel in de individuele klasse als i
 n paar en team klasse starten.</p><ul class="gkBullet">	<li>A-categorie 1e 
 Dan/Poom en hoger</li>	<li>A-Open categorie 1e Dan en hoger</li>	<li>B-cate
 gorie 4e t/m 1e Geup</li>	<li>C-categorie 8e t/m 5e Geup</li></ul><p class=
 "gkTips1">	De A-Open categorie is een categorie waarbij de deelnemers vrije
  keuze hebben in de te lopen poomsae, deze dient bij	aanmelding doorgegeven
  te worden. De A-Open categorie alleen divisies vanaf 18 jaar.</p><p>De lee
 ftijdsgrenzen zijn gebaseerd op het geboortejaar. Bv. als iemand 17 jaar is
  maar in het competitiejaar 18 jaar	wordt, neemt hij/zij deel bij divisie 1
 8t/m 30 jr.</p><p>De organisatie behoud zich het recht voor om poules samen
  te voegen.</p><h2>Gye-pa</h2><h3>Klasse verplicht</h3><p>	In totaal moeten
  er 3 planken gebroken worden.<br />	Verplicht is 1 vuist of handtechniek. 
 De overige Taekwondo technieken zijn vrij maar moeten wel verschillend zijn
 .</p><h3>Klasse vrij <small>(alleen vanaf 18 jaar)</small></h3><p>In totaal
  moeten er 5 planken gebroken worden.<br />	Alle Taekwondo technieken zijn 
 vrij maar moeten wel verschillend zijn.</p><ul class="gkBullet">	<li>A-cate
 gorie 1e Geup en hoger</li></ul>
X-EXTRAINFO:Meer informatie (https://www.taekwondobond.nl/agenda/#event_12914)
DTSTAMP:20260422T062509Z
DTSTART;TZID=Europe/Amsterdam:20190407T080000
DTEND;TZID=Europe/Amsterdam:20190407T180000
SEQUENCE:0
TRANSP:OPAQUE
END:VEVENT
END:VCALENDAR