BEGIN:VCALENDAR
VERSION:2.0
PRODID:-//jEvents 2.0 for Joomla//EN
CALSCALE:GREGORIAN
METHOD:PUBLISH
BEGIN:VTIMEZONE
TZID:Europe/Amsterdam
BEGIN:STANDARD
DTSTART:20181028T020000
RDATE:20190331T030000
TZOFFSETFROM:+0200
TZOFFSETTO:+0100
TZNAME:Europe/Amsterdam CET
END:STANDARD
BEGIN:STANDARD
DTSTART:20191027T020000
RDATE:20200329T030000
TZOFFSETFROM:+0200
TZOFFSETTO:+0100
TZNAME:Europe/Amsterdam CET
END:STANDARD
BEGIN:STANDARD
DTSTART:20201025T020000
RDATE:20210328T030000
TZOFFSETFROM:+0200
TZOFFSETTO:+0100
TZNAME:Europe/Amsterdam CET
END:STANDARD
BEGIN:STANDARD
DTSTART:20211031T020000
RDATE:20220327T030000
TZOFFSETFROM:+0200
TZOFFSETTO:+0100
TZNAME:Europe/Amsterdam CET
END:STANDARD
BEGIN:STANDARD
DTSTART:20221030T020000
RDATE:20230326T030000
TZOFFSETFROM:+0200
TZOFFSETTO:+0100
TZNAME:Europe/Amsterdam CET
END:STANDARD
BEGIN:STANDARD
DTSTART:20231029T020000
RDATE:20240331T030000
TZOFFSETFROM:+0200
TZOFFSETTO:+0100
TZNAME:Europe/Amsterdam CET
END:STANDARD
BEGIN:STANDARD
DTSTART:20241027T020000
RDATE:20250330T030000
TZOFFSETFROM:+0200
TZOFFSETTO:+0100
TZNAME:Europe/Amsterdam CET
END:STANDARD
BEGIN:STANDARD
DTSTART:20251026T020000
RDATE:20260329T030000
TZOFFSETFROM:+0200
TZOFFSETTO:+0100
TZNAME:Europe/Amsterdam CET
END:STANDARD
BEGIN:STANDARD
DTSTART:20261025T020000
RDATE:20270328T030000
TZOFFSETFROM:+0200
TZOFFSETTO:+0100
TZNAME:Europe/Amsterdam CET
END:STANDARD
BEGIN:STANDARD
DTSTART:20271031T020000
RDATE:20280326T030000
TZOFFSETFROM:+0200
TZOFFSETTO:+0100
TZNAME:Europe/Amsterdam CET
END:STANDARD
BEGIN:STANDARD
DTSTART:20281029T020000
RDATE:20290325T030000
TZOFFSETFROM:+0200
TZOFFSETTO:+0100
TZNAME:Europe/Amsterdam CET
END:STANDARD
BEGIN:DAYLIGHT
DTSTART:20180503T094500
RDATE:20181028T020000
TZOFFSETFROM:+0100
TZOFFSETTO:+0200
TZNAME:Europe/Amsterdam CEST
END:DAYLIGHT
BEGIN:DAYLIGHT
DTSTART:20190331T030000
RDATE:20191027T020000
TZOFFSETFROM:+0100
TZOFFSETTO:+0200
TZNAME:Europe/Amsterdam CEST
END:DAYLIGHT
BEGIN:DAYLIGHT
DTSTART:20200329T030000
RDATE:20201025T020000
TZOFFSETFROM:+0100
TZOFFSETTO:+0200
TZNAME:Europe/Amsterdam CEST
END:DAYLIGHT
BEGIN:DAYLIGHT
DTSTART:20210328T030000
RDATE:20211031T020000
TZOFFSETFROM:+0100
TZOFFSETTO:+0200
TZNAME:Europe/Amsterdam CEST
END:DAYLIGHT
BEGIN:DAYLIGHT
DTSTART:20220327T030000
RDATE:20221030T020000
TZOFFSETFROM:+0100
TZOFFSETTO:+0200
TZNAME:Europe/Amsterdam CEST
END:DAYLIGHT
BEGIN:DAYLIGHT
DTSTART:20230326T030000
RDATE:20231029T020000
TZOFFSETFROM:+0100
TZOFFSETTO:+0200
TZNAME:Europe/Amsterdam CEST
END:DAYLIGHT
BEGIN:DAYLIGHT
DTSTART:20240331T030000
RDATE:20241027T020000
TZOFFSETFROM:+0100
TZOFFSETTO:+0200
TZNAME:Europe/Amsterdam CEST
END:DAYLIGHT
BEGIN:DAYLIGHT
DTSTART:20250330T030000
RDATE:20251026T020000
TZOFFSETFROM:+0100
TZOFFSETTO:+0200
TZNAME:Europe/Amsterdam CEST
END:DAYLIGHT
BEGIN:DAYLIGHT
DTSTART:20260329T030000
RDATE:20261025T020000
TZOFFSETFROM:+0100
TZOFFSETTO:+0200
TZNAME:Europe/Amsterdam CEST
END:DAYLIGHT
BEGIN:DAYLIGHT
DTSTART:20270328T030000
RDATE:20271031T020000
TZOFFSETFROM:+0100
TZOFFSETTO:+0200
TZNAME:Europe/Amsterdam CEST
END:DAYLIGHT
BEGIN:DAYLIGHT
DTSTART:20280326T030000
RDATE:20281029T020000
TZOFFSETFROM:+0100
TZOFFSETTO:+0200
TZNAME:Europe/Amsterdam CEST
END:DAYLIGHT
END:VTIMEZONE
BEGIN:VEVENT
UID:c37d98dc7d1f3a3c21a1be43fb9abdb9
CATEGORIES:Opleidingen
CREATED:20190408T160649
SUMMARY:Stijljurycursus
LOCATION:Nieuwegein
URL;VALUE=URI:https://www.taekwondocentrumalkmaar.nl/agenda/48/stijljurycursus?tmpl=compo
 nent
DESCRIPTION:De cursus wordt gegeven onder leiding van de heer Mustapha Moutarazak, vice
 -chairman van de WTPoomsae committee, WT Education instructeur en WTE Refer
 ee Chairman. De cursus is bedoeld voor:\n\n - Opleiding Poomsae en Free Sty
 le scheidsrechter E- en D-diploma;\nVoor 3e Dan examen of hoger is men verp
 licht in het bezit te zijn van minimaaleen E- diploma stijljury.\n - Bijsch
 oling voor alle TBN poomsae juryleden, zowel het actieve jurykorps alsookal
 le niet-actieve juryleden die in het bezit zijn geweest van een TBN stijlju
 ry diploma.De actuele ontwikkelingen op het gebied van het WT-Poomsae / Fre
 estyle en Para poomsae reglementzullen worden besproken en toegelicht aan d
 e hand van onder meer beeldmateriaal.\nUiteraard is het belangrijk dat jury
 leden de nieuwe spelregels goed weten en kunnen toepassen.\nHet is belangri
 jk om de gehele dag bij te wonen om op het gebied van praktijk en theorie g
 eïnformeerdte zijn en voor het behoud en het verlengen van de jurylicentie.
 \n
X-ALT-DESC;FMTTYPE=text/html:<p>De cursus wordt gegeven onder leiding van de heer Mustapha Moutarazak, v
 ice-chairman van de WTPoomsae committee, WT Education instructeur en WTE Re
 feree Chairman. De cursus is bedoeld voor:</p><ol><li>Opleiding Poomsae en 
 Free Style scheidsrechter E- en D-diploma;<br /><strong>Voor 3e Dan examen 
 of hoger is men verplicht in het bezit te zijn van minimaaleen E- diploma s
 tijljury.</strong></li><li>Bijscholing voor alle TBN poomsae juryleden, zow
 el het actieve jurykorps alsookalle niet-actieve juryleden die in het bezit
  zijn geweest van een TBN stijljury diploma.</li></ol><p>De actuele ontwikk
 elingen op het gebied van het WT-Poomsae / Freestyle en Para poomsae reglem
 entzullen worden besproken en toegelicht aan de hand van onder meer beeldma
 teriaal.<br />Uiteraard is het belangrijk dat juryleden de nieuwe spelregel
 s goed weten en kunnen toepassen.<br />Het is belangrijk om de gehele dag b
 ij te wonen om op het gebied van praktijk en theorie geïnformeerdte zijn en
  voor het behoud en het verlengen van de jurylicentie.</p>
X-EXTRAINFO:https://www.taekwondobond.nl/wp-content/uploads/2019/03/Stijljurycursus-mei
 -2019.pdf
DTSTAMP:20260422T023609Z
DTSTART;TZID=Europe/Amsterdam:20190504T094500
DTEND;TZID=Europe/Amsterdam:20190504T160000
SEQUENCE:0
TRANSP:OPAQUE
END:VEVENT
END:VCALENDAR