BEGIN:VCALENDAR
VERSION:2.0
PRODID:-//jEvents 2.0 for Joomla//EN
CALSCALE:GREGORIAN
METHOD:PUBLISH
BEGIN:VTIMEZONE
TZID:Europe/Amsterdam
BEGIN:STANDARD
DTSTART:20181028T020000
RDATE:20190331T030000
TZOFFSETFROM:+0200
TZOFFSETTO:+0100
TZNAME:Europe/Amsterdam CET
END:STANDARD
BEGIN:STANDARD
DTSTART:20191027T020000
RDATE:20200329T030000
TZOFFSETFROM:+0200
TZOFFSETTO:+0100
TZNAME:Europe/Amsterdam CET
END:STANDARD
BEGIN:STANDARD
DTSTART:20201025T020000
RDATE:20210328T030000
TZOFFSETFROM:+0200
TZOFFSETTO:+0100
TZNAME:Europe/Amsterdam CET
END:STANDARD
BEGIN:STANDARD
DTSTART:20211031T020000
RDATE:20220327T030000
TZOFFSETFROM:+0200
TZOFFSETTO:+0100
TZNAME:Europe/Amsterdam CET
END:STANDARD
BEGIN:STANDARD
DTSTART:20221030T020000
RDATE:20230326T030000
TZOFFSETFROM:+0200
TZOFFSETTO:+0100
TZNAME:Europe/Amsterdam CET
END:STANDARD
BEGIN:STANDARD
DTSTART:20231029T020000
RDATE:20240331T030000
TZOFFSETFROM:+0200
TZOFFSETTO:+0100
TZNAME:Europe/Amsterdam CET
END:STANDARD
BEGIN:STANDARD
DTSTART:20241027T020000
RDATE:20250330T030000
TZOFFSETFROM:+0200
TZOFFSETTO:+0100
TZNAME:Europe/Amsterdam CET
END:STANDARD
BEGIN:STANDARD
DTSTART:20251026T020000
RDATE:20260329T030000
TZOFFSETFROM:+0200
TZOFFSETTO:+0100
TZNAME:Europe/Amsterdam CET
END:STANDARD
BEGIN:STANDARD
DTSTART:20261025T020000
RDATE:20270328T030000
TZOFFSETFROM:+0200
TZOFFSETTO:+0100
TZNAME:Europe/Amsterdam CET
END:STANDARD
BEGIN:STANDARD
DTSTART:20271031T020000
RDATE:20280326T030000
TZOFFSETFROM:+0200
TZOFFSETTO:+0100
TZNAME:Europe/Amsterdam CET
END:STANDARD
BEGIN:STANDARD
DTSTART:20281029T020000
RDATE:20290325T030000
TZOFFSETFROM:+0200
TZOFFSETTO:+0100
TZNAME:Europe/Amsterdam CET
END:STANDARD
BEGIN:DAYLIGHT
DTSTART:20181018T080000
RDATE:20181028T020000
TZOFFSETFROM:+0100
TZOFFSETTO:+0200
TZNAME:Europe/Amsterdam CEST
END:DAYLIGHT
BEGIN:DAYLIGHT
DTSTART:20190331T030000
RDATE:20191027T020000
TZOFFSETFROM:+0100
TZOFFSETTO:+0200
TZNAME:Europe/Amsterdam CEST
END:DAYLIGHT
BEGIN:DAYLIGHT
DTSTART:20200329T030000
RDATE:20201025T020000
TZOFFSETFROM:+0100
TZOFFSETTO:+0200
TZNAME:Europe/Amsterdam CEST
END:DAYLIGHT
BEGIN:DAYLIGHT
DTSTART:20210328T030000
RDATE:20211031T020000
TZOFFSETFROM:+0100
TZOFFSETTO:+0200
TZNAME:Europe/Amsterdam CEST
END:DAYLIGHT
BEGIN:DAYLIGHT
DTSTART:20220327T030000
RDATE:20221030T020000
TZOFFSETFROM:+0100
TZOFFSETTO:+0200
TZNAME:Europe/Amsterdam CEST
END:DAYLIGHT
BEGIN:DAYLIGHT
DTSTART:20230326T030000
RDATE:20231029T020000
TZOFFSETFROM:+0100
TZOFFSETTO:+0200
TZNAME:Europe/Amsterdam CEST
END:DAYLIGHT
BEGIN:DAYLIGHT
DTSTART:20240331T030000
RDATE:20241027T020000
TZOFFSETFROM:+0100
TZOFFSETTO:+0200
TZNAME:Europe/Amsterdam CEST
END:DAYLIGHT
BEGIN:DAYLIGHT
DTSTART:20250330T030000
RDATE:20251026T020000
TZOFFSETFROM:+0100
TZOFFSETTO:+0200
TZNAME:Europe/Amsterdam CEST
END:DAYLIGHT
BEGIN:DAYLIGHT
DTSTART:20260329T030000
RDATE:20261025T020000
TZOFFSETFROM:+0100
TZOFFSETTO:+0200
TZNAME:Europe/Amsterdam CEST
END:DAYLIGHT
BEGIN:DAYLIGHT
DTSTART:20270328T030000
RDATE:20271031T020000
TZOFFSETFROM:+0100
TZOFFSETTO:+0200
TZNAME:Europe/Amsterdam CEST
END:DAYLIGHT
BEGIN:DAYLIGHT
DTSTART:20280326T030000
RDATE:20281029T020000
TZOFFSETFROM:+0100
TZOFFSETTO:+0200
TZNAME:Europe/Amsterdam CEST
END:DAYLIGHT
END:VTIMEZONE
BEGIN:VEVENT
UID:9b01584ff78dd3fc7604ffd65d85e8ba
CATEGORIES:Wedstrijden
CREATED:20190531T102938
SUMMARY:3e Open Hanmadang Nederland
LOCATION:GEANNULEERD
URL;VALUE=URI:https://www.taekwondocentrumalkmaar.nl/agenda/53/3e-open-hanmadang-nederlan
 d?tmpl=component
DESCRIPTION:<p>Wegens te weinig deelnemers geannuleerd.</p><del><p><strong>Organisatie<
 /strong> Taekwondo vereniging Garuda Waalwijk, onder auspiciën van de Taekw
 ondo Bond Nederland.</p><p><strong>Algemeen</strong> Dit is de derde Hanmad
 ang die wordt georganiseerd in Nederland.<br />		We hanteren zoveel mogelij
 k de officiële Hanmadang reglementen.<br />		Alle deelnemers worden geacht 
 op eigen risico aan de Hanmadang deel te nemen. Door deelname verklaren zij
  zich akkoord de organisatie te vrijwaren van elke aansprakelijkheid en of 
 schade.</p><p><strong>Deelname</strong> Alleen voor TBN-leden en leden van 
 bij de World Taekwondo aangesloten nationale bonden.</p><p><strong>Besluit<
 /strong> Er geldt een minimum van 4 deelnemers per discipline (individueel,
  paren, teams). Indien dit niet het geval is worden deelnemers samengevoegd
  of wordt het onderdeel geannuleerd.</p><p><strong><u>Doorgang!!!</u></stro
 ng> Bij onvoldoende deelnemers wordt de Hanmadang geannuleerd.<br />	Alle r
 eeds betaalde gelden worden in zijn geheel teruggestort.	Per <strong>01-08-
 2018</strong> ontvangt u hierover bericht, indien van toepassing.</p><p><st
 rong>Presentie</strong> Deelnemen aan diverse onderdelen is toegestaan, maa
 r men is zelf verantwoordelijk om op tijd aanwezig te zijn, om zo oponthoud
  in de wedstrijden tegen te gaan. Door overlapping van onderdelen loopt men
 		het risico om verstek te moeten laten gaan. Hiervoor bent u zelf verantwo
 ordelijk. Coaches hebben hierin een belangrijke rol.</p><p><strong>Breekmat
 eriaal</strong> U dient zelf uw eigen breekmateriaal mee te nemen, op te ru
 imen en ook mee terug te nemen. Vierkante vurenhouten breekplanken dienen m
 inimaal 0,8 cm dik te zijn, met afmetingen 20x20 cm of 30x30 cm.<br />	Dakp
 annen en gasbeton zijn ook toegestaan. Aangeven op de inschrijving, zodat d
 e organisatie hier rekening mee kan houden.</p><p><strong>Para sporters</st
 rong> Alleen voor het onderdeel Taegeuk / Poomsee individueel kunt u zich i
 nschrijven. U wordt van harte uitgenodigd om deel te nemen!</p><p><strong>P
 rogramma o.v.b.</strong><br />	08.00-08.30u. Melden<br />	09.30-09.45u. Ope
 ning / welkomstwoord / groepsfoto<br />	09.45-12.15u Start wedstrijden<br /
 >	12.15-13.00u Pauze<br />	13.00-16.30u Vervolg wedstrijden 16.45u Afsluiti
 ng</p>	<p><strong>Inlichtingen</strong> Ernst Breuer, voorzitter / hoofdtra
 iner / organisator<br />	Taekwondo vereniging Garuda Waalwijk<br />	Via e-m
 ail: HanmadangWaalwijk@gmail.com o.v.v. 3e Hanmadang</p><a href="https://ww
 w.taekwondobond.nl/wp-content/uploads/2018/04/2e-Open-Hanmadang-Nederland-2
 0-10-2018-uitschrijving-.pdf" rel="external">Volledige uitschrijving</a></d
 el>
X-EXTRAINFO:Sporthal De Slagen\nDe Gaard 2\nWaalwijk
DTSTAMP:20260422T060958Z
DTSTART;TZID=Europe/Amsterdam:20191019T080000
DTEND;TZID=Europe/Amsterdam:20191019T170000
SEQUENCE:0
TRANSP:OPAQUE
END:VEVENT
END:VCALENDAR