BEGIN:VCALENDAR
VERSION:2.0
PRODID:-//jEvents 2.0 for Joomla//EN
CALSCALE:GREGORIAN
METHOD:PUBLISH
BEGIN:VTIMEZONE
TZID:Europe/Amsterdam
BEGIN:STANDARD
DTSTART:20191027T020000
RDATE:20200329T030000
TZOFFSETFROM:+0200
TZOFFSETTO:+0100
TZNAME:Europe/Amsterdam CET
END:STANDARD
BEGIN:STANDARD
DTSTART:20201025T020000
RDATE:20210328T030000
TZOFFSETFROM:+0200
TZOFFSETTO:+0100
TZNAME:Europe/Amsterdam CET
END:STANDARD
BEGIN:STANDARD
DTSTART:20211031T020000
RDATE:20220327T030000
TZOFFSETFROM:+0200
TZOFFSETTO:+0100
TZNAME:Europe/Amsterdam CET
END:STANDARD
BEGIN:STANDARD
DTSTART:20221030T020000
RDATE:20230326T030000
TZOFFSETFROM:+0200
TZOFFSETTO:+0100
TZNAME:Europe/Amsterdam CET
END:STANDARD
BEGIN:STANDARD
DTSTART:20231029T020000
RDATE:20240331T030000
TZOFFSETFROM:+0200
TZOFFSETTO:+0100
TZNAME:Europe/Amsterdam CET
END:STANDARD
BEGIN:STANDARD
DTSTART:20241027T020000
RDATE:20250330T030000
TZOFFSETFROM:+0200
TZOFFSETTO:+0100
TZNAME:Europe/Amsterdam CET
END:STANDARD
BEGIN:STANDARD
DTSTART:20251026T020000
RDATE:20260329T030000
TZOFFSETFROM:+0200
TZOFFSETTO:+0100
TZNAME:Europe/Amsterdam CET
END:STANDARD
BEGIN:STANDARD
DTSTART:20261025T020000
RDATE:20270328T030000
TZOFFSETFROM:+0200
TZOFFSETTO:+0100
TZNAME:Europe/Amsterdam CET
END:STANDARD
BEGIN:STANDARD
DTSTART:20271031T020000
RDATE:20280326T030000
TZOFFSETFROM:+0200
TZOFFSETTO:+0100
TZNAME:Europe/Amsterdam CET
END:STANDARD
BEGIN:STANDARD
DTSTART:20281029T020000
RDATE:20290325T030000
TZOFFSETFROM:+0200
TZOFFSETTO:+0100
TZNAME:Europe/Amsterdam CET
END:STANDARD
BEGIN:DAYLIGHT
DTSTART:20190523T070000
RDATE:20191027T020000
TZOFFSETFROM:+0100
TZOFFSETTO:+0200
TZNAME:Europe/Amsterdam CEST
END:DAYLIGHT
BEGIN:DAYLIGHT
DTSTART:20200329T030000
RDATE:20201025T020000
TZOFFSETFROM:+0100
TZOFFSETTO:+0200
TZNAME:Europe/Amsterdam CEST
END:DAYLIGHT
BEGIN:DAYLIGHT
DTSTART:20210328T030000
RDATE:20211031T020000
TZOFFSETFROM:+0100
TZOFFSETTO:+0200
TZNAME:Europe/Amsterdam CEST
END:DAYLIGHT
BEGIN:DAYLIGHT
DTSTART:20220327T030000
RDATE:20221030T020000
TZOFFSETFROM:+0100
TZOFFSETTO:+0200
TZNAME:Europe/Amsterdam CEST
END:DAYLIGHT
BEGIN:DAYLIGHT
DTSTART:20230326T030000
RDATE:20231029T020000
TZOFFSETFROM:+0100
TZOFFSETTO:+0200
TZNAME:Europe/Amsterdam CEST
END:DAYLIGHT
BEGIN:DAYLIGHT
DTSTART:20240331T030000
RDATE:20241027T020000
TZOFFSETFROM:+0100
TZOFFSETTO:+0200
TZNAME:Europe/Amsterdam CEST
END:DAYLIGHT
BEGIN:DAYLIGHT
DTSTART:20250330T030000
RDATE:20251026T020000
TZOFFSETFROM:+0100
TZOFFSETTO:+0200
TZNAME:Europe/Amsterdam CEST
END:DAYLIGHT
BEGIN:DAYLIGHT
DTSTART:20260329T030000
RDATE:20261025T020000
TZOFFSETFROM:+0100
TZOFFSETTO:+0200
TZNAME:Europe/Amsterdam CEST
END:DAYLIGHT
BEGIN:DAYLIGHT
DTSTART:20270328T030000
RDATE:20271031T020000
TZOFFSETFROM:+0100
TZOFFSETTO:+0200
TZNAME:Europe/Amsterdam CEST
END:DAYLIGHT
BEGIN:DAYLIGHT
DTSTART:20280326T030000
RDATE:20281029T020000
TZOFFSETFROM:+0100
TZOFFSETTO:+0200
TZNAME:Europe/Amsterdam CEST
END:DAYLIGHT
END:VTIMEZONE
BEGIN:VEVENT
UID:0200dc2ab2ecbfb4caec728b43656195
CATEGORIES:Wedstrijden
CREATED:20190624T093644
SUMMARY:GEANNULEERD: Dutch Masters 2020 Technical
LOCATION:Den Haag
URL;VALUE=URI:https://www.taekwondocentrumalkmaar.nl/agenda/67/geannuleerd-dutch-masters-
 2020-technical?tmpl=component
DESCRIPTION:<h2>Stijltoernooi</h2><p>Internationaal (veel Engelsen) stijl en sparrings 
 toernooi.</p><h3>Individueel</h3><p>A, B en C-klasse dames en heren.</p><ul
 ><li>Pupillen (t/m 8 jaar)</li><li>Aspiranten (9 t/m 11 jaar)</li><li>Cadet
 ten (12 t/m 14 jaar)</li><li>Junioren (15 t/m 17 jaar)</li><li>Seniors U30 
 (18 t/m 30 jaar)</li><li>Seniors U40 (31 t/m 40 jaar)</li><li>Seniors U50 (
 41 t/m 50 jaar)</li><li>Seniors U60 (51 t/m 60 jaar)</li><li>Seniors U60 (6
 1 t/m 65 jaar)</li><li>Veterans (vanaf 66 jaar, alleen A-klasse)</li></ul><
 h3>Paar</h3><p>A, B en C-klasse dame + heer.</p><ul><li>Pupil (t/m 11 jaar)
 </li><li>Cadet (12 t/m 14 jaar)</li><li>Junior (15 t/m 17 jaar)</li><li>Sen
 iors (18 t/m 30 jaar)</li><li>Seniors (vanaf 31 jaar)</li></ul><h3>Team</h3
 ><p>A, B en C-klasse 3x dame of 3x heer.</p><ul><li>Pupil (t/m 11 jaar)</li
 ><li>Cadet (12 t/m 14 jaar)</li><li>Junior (15 t/m 17 jaar)</li><li>Seniors
  U30 (18 t/m 30 jaar)</li><li>Seniors O31 (vanaf 31 jaar)</li></ul><h3>Para
 </h3><p>A, B-klasse.</p><ul><li>Para U18 (t/m 17 jaar)</li><li>Para O18 (va
 naf 18 jaar)</li></ul><p>A-klasse vanaf 1e poom/dan, B-klasse witte band t/
 m zwarte slip.</p>
DTSTAMP:20260421T194956Z
DTSTART;TZID=Europe/Amsterdam:20200523T070000
DTEND;TZID=Europe/Amsterdam:20200523T180000
SEQUENCE:0
TRANSP:OPAQUE
END:VEVENT
END:VCALENDAR