BEGIN:VCALENDAR
VERSION:2.0
PRODID:-//jEvents 2.0 for Joomla//EN
CALSCALE:GREGORIAN
METHOD:PUBLISH
BEGIN:VTIMEZONE
TZID:Europe/Amsterdam
BEGIN:STANDARD
DTSTART:20181028T020000
RDATE:20190331T030000
TZOFFSETFROM:+0200
TZOFFSETTO:+0100
TZNAME:Europe/Amsterdam CET
END:STANDARD
BEGIN:STANDARD
DTSTART:20191027T020000
RDATE:20200329T030000
TZOFFSETFROM:+0200
TZOFFSETTO:+0100
TZNAME:Europe/Amsterdam CET
END:STANDARD
BEGIN:STANDARD
DTSTART:20201025T020000
RDATE:20210328T030000
TZOFFSETFROM:+0200
TZOFFSETTO:+0100
TZNAME:Europe/Amsterdam CET
END:STANDARD
BEGIN:STANDARD
DTSTART:20211031T020000
RDATE:20220327T030000
TZOFFSETFROM:+0200
TZOFFSETTO:+0100
TZNAME:Europe/Amsterdam CET
END:STANDARD
BEGIN:STANDARD
DTSTART:20221030T020000
RDATE:20230326T030000
TZOFFSETFROM:+0200
TZOFFSETTO:+0100
TZNAME:Europe/Amsterdam CET
END:STANDARD
BEGIN:STANDARD
DTSTART:20231029T020000
RDATE:20240331T030000
TZOFFSETFROM:+0200
TZOFFSETTO:+0100
TZNAME:Europe/Amsterdam CET
END:STANDARD
BEGIN:STANDARD
DTSTART:20241027T020000
RDATE:20250330T030000
TZOFFSETFROM:+0200
TZOFFSETTO:+0100
TZNAME:Europe/Amsterdam CET
END:STANDARD
BEGIN:STANDARD
DTSTART:20251026T020000
RDATE:20260329T030000
TZOFFSETFROM:+0200
TZOFFSETTO:+0100
TZNAME:Europe/Amsterdam CET
END:STANDARD
BEGIN:STANDARD
DTSTART:20261025T020000
RDATE:20270328T030000
TZOFFSETFROM:+0200
TZOFFSETTO:+0100
TZNAME:Europe/Amsterdam CET
END:STANDARD
BEGIN:STANDARD
DTSTART:20271031T020000
RDATE:20280326T030000
TZOFFSETFROM:+0200
TZOFFSETTO:+0100
TZNAME:Europe/Amsterdam CET
END:STANDARD
BEGIN:STANDARD
DTSTART:20281029T020000
RDATE:20290325T030000
TZOFFSETFROM:+0200
TZOFFSETTO:+0100
TZNAME:Europe/Amsterdam CET
END:STANDARD
BEGIN:DAYLIGHT
DTSTART:20181018T093000
RDATE:20181028T020000
TZOFFSETFROM:+0100
TZOFFSETTO:+0200
TZNAME:Europe/Amsterdam CEST
END:DAYLIGHT
BEGIN:DAYLIGHT
DTSTART:20190331T030000
RDATE:20191027T020000
TZOFFSETFROM:+0100
TZOFFSETTO:+0200
TZNAME:Europe/Amsterdam CEST
END:DAYLIGHT
BEGIN:DAYLIGHT
DTSTART:20200329T030000
RDATE:20201025T020000
TZOFFSETFROM:+0100
TZOFFSETTO:+0200
TZNAME:Europe/Amsterdam CEST
END:DAYLIGHT
BEGIN:DAYLIGHT
DTSTART:20210328T030000
RDATE:20211031T020000
TZOFFSETFROM:+0100
TZOFFSETTO:+0200
TZNAME:Europe/Amsterdam CEST
END:DAYLIGHT
BEGIN:DAYLIGHT
DTSTART:20220327T030000
RDATE:20221030T020000
TZOFFSETFROM:+0100
TZOFFSETTO:+0200
TZNAME:Europe/Amsterdam CEST
END:DAYLIGHT
BEGIN:DAYLIGHT
DTSTART:20230326T030000
RDATE:20231029T020000
TZOFFSETFROM:+0100
TZOFFSETTO:+0200
TZNAME:Europe/Amsterdam CEST
END:DAYLIGHT
BEGIN:DAYLIGHT
DTSTART:20240331T030000
RDATE:20241027T020000
TZOFFSETFROM:+0100
TZOFFSETTO:+0200
TZNAME:Europe/Amsterdam CEST
END:DAYLIGHT
BEGIN:DAYLIGHT
DTSTART:20250330T030000
RDATE:20251026T020000
TZOFFSETFROM:+0100
TZOFFSETTO:+0200
TZNAME:Europe/Amsterdam CEST
END:DAYLIGHT
BEGIN:DAYLIGHT
DTSTART:20260329T030000
RDATE:20261025T020000
TZOFFSETFROM:+0100
TZOFFSETTO:+0200
TZNAME:Europe/Amsterdam CEST
END:DAYLIGHT
BEGIN:DAYLIGHT
DTSTART:20270328T030000
RDATE:20271031T020000
TZOFFSETFROM:+0100
TZOFFSETTO:+0200
TZNAME:Europe/Amsterdam CEST
END:DAYLIGHT
BEGIN:DAYLIGHT
DTSTART:20280326T030000
RDATE:20281029T020000
TZOFFSETFROM:+0100
TZOFFSETTO:+0200
TZNAME:Europe/Amsterdam CEST
END:DAYLIGHT
END:VTIMEZONE
BEGIN:VEVENT
UID:ca327df72df30c7f1832ec79037bce57
CATEGORIES:Opleidingen
CREATED:20191007T095224
SUMMARY:Wedstrijdreglementencursus
LOCATION:Nieuwegein
URL;VALUE=URI:https://www.taekwondocentrumalkmaar.nl/agenda/71/wedstrijdreglementencursus
 ?tmpl=component
DESCRIPTION:De wedstrijdreglementencursus dient gevolgd te worden voordat men kan deeln
 emen aan het examen voor 1e Dan of ingeval van poomgraadhouders voordat men
  kan deelnemen aan een opvolgend danexamen.\nKandidaten dienen minstens 14 
 jaar oud te zijn waarbij voor geslaagden ouder dan 18 jaar geldt dat zij na
  het volgen van de landelijke scheidsrechtersopleiding mogen functioneren a
 ls scheidsrechter. Deze cursus vindt plaats op onderstaande datum waarbij l
 eden die opgaan voor 1e Dan en in het bezit zijn van de 1e Geup voorrang he
 bben. Ook personen die beschikken over een poomgraad maar die nu opgaan voo
 r een dangraad hebben voorrang. Afhankelijk van het aantal inschrijvingen k
 unnen kandidaten met 2e en 3e Geup ook meedoen.\n
X-ALT-DESC;FMTTYPE=text/html:<p><strong>De wedstrijdreglementencursus dient gevolgd te worden voordat me
 n kan deelnemen aan het examen voor 1e Dan of ingeval van poomgraadhouders 
 voordat men kan deelnemen aan een opvolgend danexamen.</strong></p><p>Kandi
 daten dienen minstens 14 jaar oud te zijn waarbij voor geslaagden ouder dan
  18 jaar geldt dat zij na het volgen van de landelijke scheidsrechtersoplei
 ding mogen functioneren als scheidsrechter. Deze cursus vindt plaats op ond
 erstaande datum waarbij leden die opgaan voor 1e Dan en in het bezit zijn v
 an de 1e Geup voorrang hebben. Ook personen die beschikken over een poomgra
 ad maar die nu opgaan voor een dangraad hebben voorrang. Afhankelijk van he
 t aantal inschrijvingen kunnen kandidaten met 2e en 3e Geup ook meedoen.</p
 >
X-EXTRAINFO:https://www.taekwondobond.nl/wp-content/uploads/2019/09/Wedstrijdreglemente
 ncursus-19-oktober-2019.pdf
DTSTAMP:20260422T023625Z
DTSTART;TZID=Europe/Amsterdam:20191019T093000
DTEND;TZID=Europe/Amsterdam:20191019T160000
SEQUENCE:0
TRANSP:OPAQUE
END:VEVENT
END:VCALENDAR